BEGIN:VCALENDAR
PRODID:-//kirchenweb.ch gmbh//veranstaltungsausgabe v2.0//DE
VERSION:2.0
METHOD:PUBLISH
BEGIN:VEVENT
DTSTART:20230907T171500Z
DTEND:20230907T181500Z
LOCATION:Kath. Pfarreizentrum\, Kreuzstrasse 15\, 8712 Stäfa
TRANSP:OPAQUE
SEQUENCE:0
UID:45502-veranstaltung@ref-staefa-hombrechtikon.ch
DTSTAMP:20230717T164226Z
DESCRIPTION:Kontakt: Katharina Maier\, 043 305 71 05\n\nWeitere Infos:
  https://www.ref-staefa-hombrechtikon.ch/veranstaltung/45502
SUMMARY:Singschule: Jugendchor
PRIORITY:5
X-MICROSOFT-CDO-IMPORTANCE:1
CLASS:PUBLIC
END:VEVENT
END:VCALENDAR
