BEGIN:VCALENDAR
PRODID:-//kirchenweb.ch gmbh//veranstaltungsausgabe v2.0//DE
VERSION:2.0
METHOD:PUBLISH
BEGIN:VEVENT
DTSTART:20230910T101500Z
DTEND:20230910T111500Z
LOCATION:Forum Kirchbühl\, Kirchbühlstrasse 40\, 8712 Stäfa
TRANSP:OPAQUE
SEQUENCE:0
UID:45063-veranstaltung@ref-staefa-hombrechtikon.ch
DTSTAMP:20230814T140911Z
DESCRIPTION:Alle Kirchgängerinnen und Kirchgänger sind herzlich
  eingeladen zu Kaffee\, Tee oder einem kalten Getränk\, um nach dem
  Gottesdienst noch etwas im Forum Kirchbühl zu verweilen. In diesem
  Rahmen finden immer wieder gute Gespräche statt und Gemeinschaft
  untereinander kann gelebt und gepflegt werden. Sie sind herzlich
  willkommen!\n\nMehr Informationen unter
 \nhttp://www.ref-staefa-hombrechtikon.ch/kirchenkaffee\n\nKontakt: Monika
  Kaspar\n\nWeitere Infos:
  https://www.ref-staefa-hombrechtikon.ch/veranstaltung/45063
SUMMARY:Kirchenkaffee
PRIORITY:5
X-MICROSOFT-CDO-IMPORTANCE:1
CLASS:PUBLIC
END:VEVENT
END:VCALENDAR
