BEGIN:VCALENDAR
PRODID:-//kirchenweb.ch gmbh//veranstaltungsausgabe v2.0//DE
VERSION:2.0
METHOD:PUBLISH
BEGIN:VEVENT
DTSTART:20230908T140000Z
DTEND:20230908T144500Z
LOCATION:Forum Kirchbühl\, Kirchbühlstrasse 40\, 8712 Stäfa
TRANSP:OPAQUE
SEQUENCE:0
UID:44903-veranstaltung@ref-staefa-hombrechtikon.ch
DTSTAMP:20230717T164226Z
DESCRIPTION:Kontakt: Katharina Maier\, 043 305 71 05\n\nWeitere Infos:
  https://www.ref-staefa-hombrechtikon.ch/veranstaltung/44903
SUMMARY:Singschule: Cantalino C
PRIORITY:5
X-MICROSOFT-CDO-IMPORTANCE:1
CLASS:PUBLIC
END:VEVENT
END:VCALENDAR
