BEGIN:VCALENDAR
PRODID:-//kirchenweb.ch gmbh//veranstaltungsausgabe v2.0//DE
VERSION:2.0
METHOD:PUBLISH
BEGIN:VEVENT
DTSTART:20230911T180000Z
DTEND:20230911T200000Z
LOCATION:Forum Kirchbühl\, Saal\, Kirchbühlstrasse 40\, 8712 Stäfa
TRANSP:OPAQUE
SEQUENCE:0
UID:44634-veranstaltung@ref-staefa-hombrechtikon.ch
DTSTAMP:20220531T134450Z
DESCRIPTION:Kontakt: Luzius Appenzeller\, 044 910 08 63 \n\nWeitere Infos:
  https://www.ref-staefa-hombrechtikon.ch/veranstaltung/44634
SUMMARY:Kirchenchor Stäfa: Probe
PRIORITY:5
X-MICROSOFT-CDO-IMPORTANCE:1
CLASS:PUBLIC
END:VEVENT
END:VCALENDAR
