BEGIN:VCALENDAR
PRODID:-//kirchenweb.ch gmbh//veranstaltungsausgabe v2.0//DE
VERSION:2.0
METHOD:PUBLISH
BEGIN:VEVENT
DTSTART;VALUE=DATE:20191124
DTEND;VALUE=DATE:20191125
LOCATION:Goethekeller\, Goethestrasse 6\, 8712 Stäfa
TRANSP:OPAQUE
SEQUENCE:0
UID:35684-veranstaltung@ref-staefa-hombrechtikon.ch
DTSTAMP:20191205T110536Z
DESCRIPTION:Kontakt: Dirk Andexel\, 044 927 10 60\n\nWeitere Infos:
  https://www.ref-staefa-hombrechtikon.ch/veranstaltung/35684
SUMMARY:Kerzenziehen 19
PRIORITY:5
X-MICROSOFT-CDO-IMPORTANCE:1
CLASS:PUBLIC
END:VEVENT
END:VCALENDAR
