BEGIN:VCALENDAR
PRODID:-//kirchenweb.ch gmbh//veranstaltungsausgabe v2.0//DE
VERSION:2.0
METHOD:PUBLISH
BEGIN:VEVENT
DTSTART:20191122T180000Z
DTEND:20191122T210000Z
LOCATION:Meierhaus\, Geimoosstrasse 15\, 8712 Stäfa
TRANSP:OPAQUE
SEQUENCE:0
UID:35607-veranstaltung@ref-staefa-hombrechtikon.ch
DTSTAMP:20191124T115534Z
DESCRIPTION:Höck\nEin Höck\, welcher im Cevi-Haus stattfindet.\n
 \nKontakt: Peter Baldini\, 079 735 78 91\n\nWeitere Infos:
  https://www.ref-staefa-hombrechtikon.ch/veranstaltung/35607
SUMMARY:Cevi Stäfa - Höck Ch - Genesis
PRIORITY:5
X-MICROSOFT-CDO-IMPORTANCE:1
CLASS:PUBLIC
END:VEVENT
END:VCALENDAR
