BEGIN:VCALENDAR
PRODID:-//kirchenweb.ch gmbh//veranstaltungsausgabe v2.0//DE
VERSION:2.0
METHOD:PUBLISH
BEGIN:VEVENT
DTSTART:20191121T163000Z
DTEND:20191121T183000Z
LOCATION:Kirche\, Kirchbühlstrasse 40\, 8712 Stäfa
TRANSP:OPAQUE
SEQUENCE:0
UID:35472-veranstaltung@ref-staefa-hombrechtikon.ch
DTSTAMP:20191112T093611Z
DESCRIPTION:Kontakt: Christian Gerber\, 044 927 10 99\n\nWeitere Infos:
  https://www.ref-staefa-hombrechtikon.ch/veranstaltung/35472
SUMMARY:Singschule Konzertchor
PRIORITY:5
X-MICROSOFT-CDO-IMPORTANCE:1
CLASS:PUBLIC
END:VEVENT
END:VCALENDAR
