BEGIN:VCALENDAR
PRODID:-//kirchenweb.ch gmbh//veranstaltungsausgabe v2.0//DE
VERSION:2.0
METHOD:PUBLISH
BEGIN:VEVENT
DTSTART:20191124T084000Z
DTEND:20191124T094000Z
LOCATION:Forum Kirchbühl\, Kirchbühlstrasse 40\, 8712 Stäfa
TRANSP:OPAQUE
SEQUENCE:0
UID:34230-veranstaltung@ref-staefa-hombrechtikon.ch
DTSTAMP:20190627T072045Z
DESCRIPTION:Fahrdienst ab Altersheim Wiesengrund 9.40 Uhr (Eingang)\nAuf
  Wunsch holen wir Sie auch zuhause ab.\nBitte bis am Vortag beim Fahrer
  melden:\n044 929 10 54\n\nKontakt: Monika Kaspar\, 044 927 10 65\n\n
 \nWeitere Infos:
  https://www.ref-staefa-hombrechtikon.ch/veranstaltung/34230
SUMMARY:Fahrdienst: Curdin Niggli\, 044 929 10 54
PRIORITY:5
X-MICROSOFT-CDO-IMPORTANCE:1
CLASS:PUBLIC
END:VEVENT
END:VCALENDAR
