BEGIN:VCALENDAR
PRODID:-//kirchenweb.ch gmbh//veranstaltungsausgabe v2.0//DE
VERSION:2.0
METHOD:PUBLISH
BEGIN:VEVENT
DTSTART:20191125T190000Z
DTEND:20191125T204500Z
LOCATION:Forum Kirchbühl\, Saal\, \,
TRANSP:OPAQUE
SEQUENCE:0
UID:33441-veranstaltung@ref-staefa-hombrechtikon.ch
DTSTAMP:20190314T162120Z
DESCRIPTION:Kontakt: Luzius Appenzeller\, 044 910 08 63 \n\nWeitere Infos:
  https://www.ref-staefa-hombrechtikon.ch/veranstaltung/33441
SUMMARY:Kirchenchor: Probe
PRIORITY:5
X-MICROSOFT-CDO-IMPORTANCE:1
CLASS:PUBLIC
END:VEVENT
END:VCALENDAR
