BEGIN:VCALENDAR
PRODID:-//kirchenweb.ch gmbh//veranstaltungsausgabe v2.0//DE
VERSION:2.0
METHOD:PUBLISH
BEGIN:VEVENT
DTSTART:20191125T163000Z
DTEND:20191125T173000Z
LOCATION:Forum Kirchbühl\, Kirchbühlstrasse 40\, 8712 Stäfa
TRANSP:OPAQUE
SEQUENCE:0
UID:33421-veranstaltung@ref-staefa-hombrechtikon.ch
DTSTAMP:20190524T075725Z
DESCRIPTION:Wir hören Geschichten und erarbeiten sie als Theater.\n
 \nKontakt: Daniela Perlmutter\, 079 462 14 63\n\nWeitere Infos:
  https://www.ref-staefa-hombrechtikon.ch/veranstaltung/33421
SUMMARY:Prisma5: Theater-Unti
PRIORITY:5
X-MICROSOFT-CDO-IMPORTANCE:1
CLASS:PUBLIC
END:VEVENT
END:VCALENDAR
