BEGIN:VCALENDAR
PRODID:-//kirchenweb.ch gmbh//veranstaltungsausgabe v2.0//DE
VERSION:2.0
METHOD:PUBLISH
BEGIN:VEVENT
DTSTART:20191127T140000Z
DTEND:20191127T160000Z
LOCATION:Forum Kirchbühl\, Kirchbühlstrasse 40\, 8712 Stäfa
TRANSP:OPAQUE
SEQUENCE:0
UID:33042-veranstaltung@ref-staefa-hombrechtikon.ch
DTSTAMP:20191120T161113Z
DESCRIPTION:Im Café International kommen Menschen aus der ganzen Welt
  miteinander ins Gespräch.\n\nFreiwillige\, interessierte  aus Stäfa /
  Uerikon und Umgebung\n- begrüssen Migrantinnen und Migranten in der
  Gemeinde und tauschen sich aus\n- helfen beim Ausfüllen von amtlichen
  Formularen\, wie Bewerbungen / Briefe nach Bedarf.\n- unterstützen bei
  Alltagsfragen zB. Gesundheitssystem\, Schulsystem usw.  \n\nKontakt: Dirk
  Andexel\, 044 927 10 60\n\nWeitere Infos:
  https://www.ref-staefa-hombrechtikon.ch/veranstaltung/33042
SUMMARY:Café International
PRIORITY:5
X-MICROSOFT-CDO-IMPORTANCE:1
CLASS:PUBLIC
END:VEVENT
END:VCALENDAR
