BEGIN:VCALENDAR
PRODID:-//kirchenweb.ch gmbh//veranstaltungsausgabe v2.0//DE
VERSION:2.0
METHOD:PUBLISH
BEGIN:VEVENT
DTSTART:20191124T160000Z
DTEND:20191124T180000Z
LOCATION:Gemeindesaal Obstgarten\, Kirchbühlstrasse 40\, 8712 Stäfa
TRANSP:OPAQUE
SEQUENCE:0
UID:32739-veranstaltung@ref-staefa-hombrechtikon.ch
DTSTAMP:20190925T160421Z
DESCRIPTION:Kontakt: Sabine Nagele\, 078 707 76 80\n\nWeitere Infos:
  https://www.ref-staefa-hombrechtikon.ch/veranstaltung/32739
SUMMARY:m-project: Konzert
PRIORITY:5
X-MICROSOFT-CDO-IMPORTANCE:1
CLASS:PUBLIC
END:VEVENT
END:VCALENDAR
