BEGIN:VCALENDAR
PRODID:-//kirchenweb.ch gmbh//veranstaltungsausgabe v2.0//DE
VERSION:2.0
METHOD:PUBLISH
BEGIN:VEVENT
DTSTART:20191127T054500Z
DTEND:20191127T064500Z
LOCATION:Pfarrhauskeller\, Kirchbühlstrasse 40\, 8712 Stäfa
TRANSP:OPAQUE
SEQUENCE:0
UID:32281-veranstaltung@ref-staefa-hombrechtikon.ch
DTSTAMP:20181109T151644Z
DESCRIPTION:Jeden zweiten Mittwochmorgen beginnen wir unseren Tag im
  Pfarrhauskeller mit einem Bibeltext und Gebeten. Wir beten für unsere
  eigenen Bedürfnisse\, für unsere ganze Gemeinde\, unser Land und für
  spezielle Notlagen weltweit. Nach einem kurzen Austauschen kehren wir
  bereichert und getragen in den Alltag zurück. \nWer mag\, schliesst das
  Treffen mit einem Kaffee oder Tee im Forum ab.\n\nNächste Frühgebete:\n
 \n\n\nKontakt: Verena Vogelmann\, Tel. 044 926 62 06\n\nWeitere Infos:
  https://www.ref-staefa-hombrechtikon.ch/veranstaltung/32281
SUMMARY:Frühgebet für die Kirchgemeinde
PRIORITY:5
X-MICROSOFT-CDO-IMPORTANCE:1
CLASS:PUBLIC
END:VEVENT
END:VCALENDAR
