BEGIN:VCALENDAR
PRODID:-//kirchenweb.ch gmbh//veranstaltungsausgabe v2.0//DE
VERSION:2.0
METHOD:PUBLISH
BEGIN:VEVENT
DTSTART:20191124T101500Z
DTEND:20191124T123000Z
LOCATION:Forum Kirchbühl\, Kirchbühlstrasse 40\, 8712 Stäfa
TRANSP:OPAQUE
SEQUENCE:0
UID:32176-veranstaltung@ref-staefa-hombrechtikon.ch
DTSTAMP:20181030T135636Z
DESCRIPTION:Sunntig-Suppe - alle Generationen für ein Mittagessen an
  einem Tisch. Alle Interessierten sind dazu herzlich eingeladen.\n
 \nWeitere Informationen finden Sie unter:
 \nhttp://www.ref-staefa-hombrechtikon.ch/sunntig-suppe\n\n\nKontakt: Peter
  Baldini\, 079 735 78 91\n\nWeitere Infos:
  https://www.ref-staefa-hombrechtikon.ch/veranstaltung/32176
SUMMARY:Sunntig-Suppe
PRIORITY:5
X-MICROSOFT-CDO-IMPORTANCE:1
CLASS:PUBLIC
END:VEVENT
END:VCALENDAR
