BEGIN:VCALENDAR
PRODID:-//kirchenweb.ch gmbh//veranstaltungsausgabe v2.0//DE
VERSION:2.0
METHOD:PUBLISH
BEGIN:VEVENT
DTSTART:20191127T174500Z
DTEND:20191127T183000Z
LOCATION:Forum Kirchbühl\, Kirchbühlstrasse 40\, 8712 Stäfa
TRANSP:OPAQUE
SEQUENCE:0
UID:31895-veranstaltung@ref-staefa-hombrechtikon.ch
DTSTAMP:20190822T152740Z
DESCRIPTION:Jeweils am Mittwochabend findet während der Adventszeit im
  Forum Kirchbühl das liturgische Abendgebet statt. Es bietet während
  rund 20 Minuten die Möglichkeit\, mit Orgelmusik und Liedern\,
  Psalmlesungen und Gebeten\, in sich zu kehren\, sich auf das Wesentliche
  zu konzentrieren und Kraft zu schöpfen aus dem Wort Gottes.\n\nKontakt:
  Pfarrer Michael Stollwerk\, 044 926 15 66 \n\nWeitere Infos:
  https://www.ref-staefa-hombrechtikon.ch/veranstaltung/31895
SUMMARY:Abendgebet in der Adventszeit
PRIORITY:5
X-MICROSOFT-CDO-IMPORTANCE:1
CLASS:PUBLIC
END:VEVENT
END:VCALENDAR
