BEGIN:VCALENDAR
PRODID:-//kirchenweb.ch gmbh//veranstaltungsausgabe v2.0//DE
VERSION:2.0
METHOD:PUBLISH
BEGIN:VEVENT
DTSTART:20191125T070000Z
DTEND:20191125T080000Z
LOCATION:Kirchgemeinde\, \,
TRANSP:OPAQUE
SEQUENCE:0
UID:31894-veranstaltung@ref-staefa-hombrechtikon.ch
DTSTAMP:20190103T100218Z
DESCRIPTION:Kontakt: Monika Götte\, 044 927 10 96\n\nWeitere Infos:
  https://www.ref-staefa-hombrechtikon.ch/veranstaltung/31894
SUMMARY:Amtswoche 48 - Monika Götte
PRIORITY:5
X-MICROSOFT-CDO-IMPORTANCE:1
CLASS:PUBLIC
END:VEVENT
END:VCALENDAR
