BEGIN:VCALENDAR
PRODID:-//kirchenweb.ch gmbh//veranstaltungsausgabe v2.0//DE
VERSION:2.0
METHOD:PUBLISH
BEGIN:VEVENT
DTSTART:20191124T190000Z
DTEND:20191124T200000Z
LOCATION:Ritterhauskapelle Ürikon\, Seestrasse 254\, 8713 Ürikon
TRANSP:OPAQUE
SEQUENCE:0
UID:31827-veranstaltung@ref-staefa-hombrechtikon.ch
DTSTAMP:20190822T152710Z
DESCRIPTION:Eine Taizé-Feier ist ein ruhiger\, meditativer Gottesdienst\,
  der in erster Linie aus den Gesängen der Communauté de Taizé und Gebet
  besteht.\nEin einfacher Ablauf\, der sich gleich bleibt\, führt durch
  die Feier.\n\n\nKontakt: Monika Götte\, 079 903 00 92\n\nWeitere Infos:
  https://www.ref-staefa-hombrechtikon.ch/veranstaltung/31827
SUMMARY:Taizé-Feier
PRIORITY:5
X-MICROSOFT-CDO-IMPORTANCE:1
CLASS:PUBLIC
END:VEVENT
END:VCALENDAR
