BEGIN:VCALENDAR
PRODID:-//kirchenweb.ch gmbh//veranstaltungsausgabe v2.0//DE
VERSION:2.0
METHOD:PUBLISH
BEGIN:VEVENT
DTSTART:20191124T090000Z
DTEND:20191124T100000Z
LOCATION:Kirche\, Kirchbühlstrasse 40\, 8712 Stäfa
TRANSP:OPAQUE
SEQUENCE:0
UID:31826-veranstaltung@ref-staefa-hombrechtikon.ch
DTSTAMP:20190822T152646Z
DESCRIPTION:Kinder im Gottesdienst\nWenn Ihr Kind während des
  Gottesdienstes unruhig wird\, können Sie gerne mit dem Sigrist oder der
  Sigristin hinten in der Kirche Kontakt aufnehmen. Er/Sie hilft Ihnen
  gerne weiter.\n\nIm Forum nebenan stehen für Sie und Ihr Kind bei der
  Garderobe Spielsachen bereit.\n\n\n\n\nKontakt: Diana Trinkner\, 044 926
  14 70\n\nWeitere Infos:
  https://www.ref-staefa-hombrechtikon.ch/veranstaltung/31826
SUMMARY:Gottesdienst
PRIORITY:5
X-MICROSOFT-CDO-IMPORTANCE:1
CLASS:PUBLIC
END:VEVENT
END:VCALENDAR
