BEGIN:VCALENDAR
PRODID:-//kirchenweb.ch gmbh//veranstaltungsausgabe v2.0//DE
VERSION:2.0
METHOD:PUBLISH
BEGIN:VEVENT
DTSTART:20191122T150000Z
DTEND:20191122T154500Z
LOCATION:Forum Kirchbühl\, Kirchbühlstrasse 40\, 8712 Stäfa
TRANSP:OPAQUE
SEQUENCE:0
UID:31635-veranstaltung@ref-staefa-hombrechtikon.ch
DTSTAMP:20180921T154008Z
DESCRIPTION:Kontakt: Katharina Maier\, 043 305 71 05\n\nWeitere Infos:
  https://www.ref-staefa-hombrechtikon.ch/veranstaltung/31635
SUMMARY:Singschule: Cantalino C
PRIORITY:5
X-MICROSOFT-CDO-IMPORTANCE:1
CLASS:PUBLIC
END:VEVENT
END:VCALENDAR
