BEGIN:VCALENDAR
PRODID:-//kirchenweb.ch gmbh//veranstaltungsausgabe v2.0//DE
VERSION:2.0
METHOD:PUBLISH
BEGIN:VEVENT
DTSTART:20191121T163000Z
DTEND:20191121T170000Z
LOCATION:Kirche\, Kirchbühlstrasse 40\, 8712 Stäfa
TRANSP:OPAQUE
SEQUENCE:0
UID:31579-veranstaltung@ref-staefa-hombrechtikon.ch
DTSTAMP:20191113T080954Z
DESCRIPTION:Kontakt: Katharina Maier\, 043 305 71 05\n\nWeitere Infos:
  https://www.ref-staefa-hombrechtikon.ch/veranstaltung/31579
SUMMARY:Singschule: Vocalissimo
PRIORITY:5
X-MICROSOFT-CDO-IMPORTANCE:1
CLASS:PUBLIC
END:VEVENT
END:VCALENDAR
