BEGIN:VCALENDAR
PRODID:-//kirchenweb.ch gmbh//veranstaltungsausgabe v2.0//DE
VERSION:2.0
METHOD:PUBLISH
BEGIN:VEVENT
DTSTART:20191122T183000Z
DTEND:20191122T203000Z
LOCATION:Forum Kirchbühl\, Kirchbühlstrasse 40\, 8712 Stäfa
TRANSP:OPAQUE
SEQUENCE:0
UID:29164-veranstaltung@ref-staefa-hombrechtikon.ch
DTSTAMP:20190102T184410Z
DESCRIPTION:Ein Seminar für Christen\, die in ihrer Spiritualität und
  Glaubenspraxis weiterkommen wollen.\nPerspektive 7: Jetzt geht's los! -
  Gottesdienst und Fest des Galubens\n\nKontakt: Pfarrer Michael
  Stollwerk\, 044 926 15 66 \n\nWeitere Infos:
  https://www.ref-staefa-hombrechtikon.ch/veranstaltung/29164
SUMMARY:7 Perspektiven - Leben im Land des Glaubens
PRIORITY:5
X-MICROSOFT-CDO-IMPORTANCE:1
CLASS:PUBLIC
END:VEVENT
END:VCALENDAR
